BEGIN:VCALENDAR
VERSION:2.0
PRODID:icalendar-ruby
CALSCALE:GREGORIAN
METHOD:PUBLISH
BEGIN:VEVENT
DTSTAMP:20260420T033533Z
UID:43-1294324@calvarynorth.church
DTSTART:20260531T170000Z
DTEND:20260601T063000Z
CLASS:PUBLIC
CREATED:20260419T143747
DESCRIPTION:Have you made a decision to follow Jesus?  Then the next step 
 is baptism.  Baptism is that outward profession of what God has done insi
 de.  You are a new creation in Christ!  Fill out the application below a
 nd let's celebrate that with you!
LAST-MODIFIED:20260419T143747
LOCATION:Calvary North Church
SUMMARY:Baptisms
URL;VALUE=URI:https://www.calvarynorth.com/events/baptisms--43/2026-05-31
ATTACH;FILENAME=baptism.jpg;FMTTYPE=image/jpeg:https://dq5pwpg1q8ru0.cloudf
 ront.net/2026/04/19/21/37/47/1e1bf289-e0aa-4d81-8fd6-21042d12e55a/baptism.
 jpg
END:VEVENT
END:VCALENDAR
