BEGIN:VCALENDAR
VERSION:2.0
PRODID:icalendar-ruby
CALSCALE:GREGORIAN
METHOD:PUBLISH
BEGIN:VEVENT
DTSTAMP:20260420T033707Z
UID:42-1294323@calvarynorth.church
DTSTART:20260510T170000Z
DTEND:20260510T183000Z
CLASS:PUBLIC
CREATED:20260419T143443
DESCRIPTION:Mom's Day is special.  We celebrate with happy moms\, and pray
  for hurting moms and others.  We'll have a special kids program\, flower
 s\, free cold brew\, an encouraging word from God's Word\, and more! 
LAST-MODIFIED:20260419T143443
LOCATION:Calvary North Church
SUMMARY:Mother's Day
URL;VALUE=URI:https://www.calvarynorth.com/events/mothers-day/2026-05-10
ATTACH;FILENAME=stock-photo--may-happy-mother-s-day-on-label-flowers-and-la
 bel-with-happy-mother-s-day-on-wooden-background-260847809.jpg;FMTTYPE=ima
 ge/jpeg:https://dq5pwpg1q8ru0.cloudfront.net/2026/04/19/21/34/04/1be2de20-
 f94c-489e-922b-22aaac62c0bf/stock-photo--may-happy-mother-s-day-on-label-f
 lowers-and-label-with-happy-mother-s-day-on-wooden-background-260847809.jp
 g
END:VEVENT
END:VCALENDAR
